BEGIN:VCALENDAR
VERSION:2.0
PRODID:-//ChamberMaster//Event Calendar 2.0//EN
METHOD:PUBLISH
X-PUBLISHED-TTL:P3D
REFRESH-INTERVAL:P3D
CALSCALE:GREGORIAN
BEGIN:VEVENT
DTSTART:20191107T223000Z
DTEND:20191108T000000Z
X-MICROSOFT-CDO-ALLDAYEVENT:FALSE
SUMMARY:November Business After Hours-Foster Fuels & Springfield Distillery
DESCRIPTION:Join us for a Business After Hours event hosted by Foster Fuels and Springfield Distillery. These events provide networking opportunities for members to meet and discuss topics in a relaxed atmosphere while learning about hosts and what they have to offer in our community. \n\nEnjoy food\, beverages\, door prizes and a 50/50 raffle during the event! \n\nNot a member? Ask us about attending a prospective member!
X-ALT-DESC;FMTTYPE=text/html:<span style="color: rgb(29\, 33\, 41)\; font-family: system-ui\, -apple-system\, system-ui\, &quot\;.SFNSText-Regular&quot\;\, sans-serif\; font-size: 14px\; white-space: pre-wrap\;">Join us for a Business After Hours event hosted by Foster Fuels and Springfield Distillery. These events provide networking opportunities for members to meet and discuss topics in a relaxed atmosphere while learning about hosts and what they have to offer in our community. </span><br style="color: rgb(29\, 33\, 41)\; font-family: system-ui\, -apple-system\, system-ui\, &quot\;.SFNSText-Regular&quot\;\, sans-serif\; font-size: 14px\; white-space: pre-wrap\;" />\n<span style="color: rgb(29\, 33\, 41)\; font-family: system-ui\, -apple-system\, system-ui\, &quot\;.SFNSText-Regular&quot\;\, sans-serif\; font-size: 14px\; white-space: pre-wrap\;">Enjoy food\, beverages\, door prizes and a 50/50 raffle during the event! </span><br style="color: rgb(29\, 33\, 41)\; font-family: system-ui\, -apple-system\, system-ui\, &quot\;.SFNSText-Regular&quot\;\, sans-serif\; font-size: 14px\; white-space: pre-wrap\;" />\n<span style="color: rgb(29\, 33\, 41)\; font-family: system-ui\, -apple-system\, system-ui\, &quot\;.SFNSText-Regular&quot\;\, sans-serif\; font-size: 14px\; white-space: pre-wrap\;">Not a member? Ask us about attending a prospective member! </span><br style="color: rgb(29\, 33\, 41)\; font-family: system-ui\, -apple-system\, system-ui\, &quot\;.SFNSText-Regular&quot\;\, sans-serif\; font-size: 14px\; white-space: pre-wrap\;" />\n&nbsp\;
LOCATION:Springfield Distillery 9040 River Road Halifax\, VA 24558
UID:e.845.13445
SEQUENCE:3
DTSTAMP:20260420T200407Z
URL:https://business.halifaxchamber.net/events/details/november-business-after-hours-foster-fuels-springfield-distillery-13445
END:VEVENT

END:VCALENDAR
