BEGIN:VCALENDAR
VERSION:2.0
PRODID:-//ChamberMaster//Event Calendar 2.0//EN
METHOD:PUBLISH
X-PUBLISHED-TTL:P3D
REFRESH-INTERVAL:P3D
CALSCALE:GREGORIAN
BEGIN:VEVENT
DTSTART:20171019T210000Z
DTEND:20171019T230000Z
X-MICROSOFT-CDO-ALLDAYEVENT:FALSE
SUMMARY:Nursing Job Fair
DESCRIPTION:Sentara Halifax Regional Hospital will be holding a Nursing Job Fair on Thursday\, October 19th from 5:00pm - 7:00pm in the Pagoda Room at Virginia International Raceway.\n\n\n\nAll experienced or new Grad RNs are welcome. Talk to managers to learn how you can become a member of the Sentara Halifax Regional team. Hear about compensation and benefit updates for 2018.
X-ALT-DESC;FMTTYPE=text/html:Sentara Halifax Regional Hospital will be holding a Nursing Job Fair on Thursday\, October 19th from 5:00pm - 7:00pm&nbsp\;in the Pagoda Room at Virginia International Raceway.<br />\n<br />\nAll experienced or new Grad RNs are welcome. Talk to managers to learn how you can become a member of the Sentara&nbsp\;Halifax Regional team. Hear about compensation and benefit updates for 2018.
LOCATION:Virginia International Raceway Pagoda Room 1245 Pine Tree Road Alton\, VA
UID:e.845.7126
SEQUENCE:3
DTSTAMP:20260422T135536Z
URL:https://business.halifaxchamber.net/events/details/nursing-job-fair-7126
END:VEVENT

END:VCALENDAR
