BEGIN:VCALENDAR
VERSION:2.0
PRODID:-//ChamberMaster//Event Calendar 2.0//EN
METHOD:PUBLISH
X-PUBLISHED-TTL:P3D
REFRESH-INTERVAL:P3D
CALSCALE:GREGORIAN
BEGIN:VEVENT
DTSTART:20190112T120000Z
DTEND:20190112T140000Z
X-MICROSOFT-CDO-ALLDAYEVENT:FALSE
SUMMARY:Oak Level Volunteer Fire Department Breakfast
DESCRIPTION:Come out and enjoy a great breakfast while supporting your local fire department. Menu includes country ham\, eggs\, bacon\, sausage \, hash browns\,grits\,homemade biscuits\, sausage\, gravy\, juice and coffee
X-ALT-DESC;FMTTYPE=text/html:Come out and enjoy a great breakfast while supporting your local fire department. Menu includes country ham\, eggs\, bacon\, sausage \, hash browns\,grits\,homemade biscuits\, sausage\, gravy\, juice and coffee
LOCATION:Oak Level Fire Department
UID:e.845.11693
SEQUENCE:3
DTSTAMP:20260421T140121Z
URL:https://business.halifaxchamber.net/events/details/oak-level-volunteer-fire-department-breakfast-11693
END:VEVENT

END:VCALENDAR
