BEGIN:VCALENDAR
VERSION:2.0
PRODID:-//ChamberMaster//Event Calendar 2.0//EN
METHOD:PUBLISH
X-PUBLISHED-TTL:P3D
REFRESH-INTERVAL:P3D
CALSCALE:GREGORIAN
BEGIN:VEVENT
DTSTART;VALUE=DATE:20160826
DTEND;VALUE=DATE:20160829
TRANSP:TRANSPARENT
X-MICROSOFT-CDO-ALLDAYEVENT:TRUE
SUMMARY:Oak Tree Grand Prix IMSA WeatherTech SportsCar Championship
DESCRIPTION:VIR is honored to be one of 12 tracks selected to host the series in its third year and the only track in the greater Mid-Atlantic. The IMSA WeatherTech SportsCar Championship\, the result of a merger between GRAND-AM Rolex Sports Car Series and the American Le Mans Series\, kicks off Aug. 26 with testing\, qualifying\, car corrals\, driver autograph sessions\, team chats\, tech talks and more. The Championship will welcome GT LeMans and GT Daytona classes\, and supporting series' include the Continental Tire Challenge.
X-ALT-DESC;FMTTYPE=text/html:VIR is honored to be one of 12 tracks selected to host the series in its third year and the only track in the greater Mid-Atlantic. The IMSA WeatherTech SportsCar Championship\, the result of a merger between GRAND-AM Rolex Sports Car Series and the American Le Mans Series\, kicks off Aug. 26 with testing\, qualifying\, car corrals\, driver autograph sessions\, team chats\, tech talks and more. The Championship will welcome GT LeMans and GT Daytona classes\, and supporting series&rsquo\; include the Continental Tire Challenge.
LOCATION:Virginia International Raceway 1245 Pine Tree Road Alton\, VA 24520
UID:e.845.4607
SEQUENCE:3
DTSTAMP:20260425T022334Z
URL:https://business.halifaxchamber.net/events/details/oak-tree-grand-prix-imsa-weathertech-sportscar-championship-08-26-2016-4607
END:VEVENT

END:VCALENDAR
