BEGIN:VCALENDAR
VERSION:2.0
PRODID:-//ChamberMaster//Event Calendar 2.0//EN
METHOD:PUBLISH
X-PUBLISHED-TTL:P3D
REFRESH-INTERVAL:P3D
CALSCALE:GREGORIAN
BEGIN:VEVENT
DTSTART:20181209T000000Z
DTEND:20181209T020000Z
X-MICROSOFT-CDO-ALLDAYEVENT:FALSE
SUMMARY:Observing Session
DESCRIPTION:njoy an evening under the stars. Join astronomers from CHAOS (Chapel Hill Astronomical and Observational Society)and Staunton River Staff on the field and get a view of Staunton River State Park like you've never seen it before. \n\nThis is an opportunity to gaze at the night sky's celestial bodies through high powered telescopes with the guidance of seasoned astronomers. You are welcome to bring your own telescope or binoculars. \n\nPlease dress appropriately for the weather. Please park in the Visitor Center or Swimming Pool parking lot and not on the Observation Field.
X-ALT-DESC;FMTTYPE=text/html:<span style="font-family: Geneva\, Arial\, Helvetica\, sans-serif\; font-size: 14px\; background-color: rgb(255\, 255\, 255)\;">njoy an evening under the stars. Join astronomers from CHAOS (Chapel Hill Astronomical and Observational Society)and Staunton River Staff on the field and get a view of Staunton River State Park like you&#39\;ve never seen it before.&nbsp\;</span><br style="font-family: Geneva\, Arial\, Helvetica\, sans-serif\; font-size: 14px\;" />\n<span style="font-family: Geneva\, Arial\, Helvetica\, sans-serif\; font-size: 14px\; background-color: rgb(255\, 255\, 255)\;">This is an opportunity to gaze at the night sky&#39\;s celestial bodies through high powered telescopes with the guidance of seasoned astronomers. You are welcome to bring your own telescope or binoculars.&nbsp\;</span><br style="font-family: Geneva\, Arial\, Helvetica\, sans-serif\; font-size: 14px\;" />\n<span style="font-family: Geneva\, Arial\, Helvetica\, sans-serif\; font-size: 14px\; background-color: rgb(255\, 255\, 255)\;">Please dress appropriately for the weather. Please park in the Visitor Center or Swimming Pool parking lot and not on the Observation Field.</span>
LOCATION:Staunton River State Park 1170 Staunton Trail Scottsburg\, VA 24589
UID:e.845.9434
SEQUENCE:3
DTSTAMP:20260421T135610Z
URL:https://business.halifaxchamber.net/events/details/observing-session-9434
END:VEVENT

END:VCALENDAR
