BEGIN:VCALENDAR
VERSION:2.0
PRODID:-//ChamberMaster//Event Calendar 2.0//EN
METHOD:PUBLISH
X-PUBLISHED-TTL:P3D
REFRESH-INTERVAL:P3D
CALSCALE:GREGORIAN
BEGIN:VEVENT
DTSTART:20161015T220000Z
DTEND:20161016T030000Z
X-MICROSOFT-CDO-ALLDAYEVENT:FALSE
SUMMARY:Octoberfest
DESCRIPTION:2nd Annual Oktoberfest. Great Food\, Craft & Domestic Beer\, Wine Souvenir Mugs & More!\n\nGerman Theme Costume Contest\n\nKids Activity Area With Pumpkin Painting Contest & More\n\nLive Music - Konnection Band\n\n\n\nProper ID Required for Alcohol Consumption\, No Coolers Allowed
X-ALT-DESC;FMTTYPE=text/html:2nd Annual Oktoberfest. Great Food\, Craft &amp\; Domestic Beer\, Wine Souvenir Mugs &amp\; More!<br />\nGerman Theme Costume Contest<br />\nKids Activity Area With Pumpkin Painting Contest &amp\; More<br />\nLive Music - Konnection Band<br />\n<br />\nProper ID Required for Alcohol Consumption\, No Coolers Allowed
LOCATION:Town of Halifax Farmers Market
UID:e.845.5719
SEQUENCE:3
DTSTAMP:20260424T223359Z
URL:https://business.halifaxchamber.net/events/details/octoberfest-5719
END:VEVENT

END:VCALENDAR
