BEGIN:VCALENDAR
VERSION:2.0
PRODID:-//ChamberMaster//Event Calendar 2.0//EN
METHOD:PUBLISH
X-PUBLISHED-TTL:P3D
REFRESH-INTERVAL:P3D
CALSCALE:GREGORIAN
BEGIN:VEVENT
DTSTART:20151010T220000Z
DTEND:20151011T020000Z
X-MICROSOFT-CDO-ALLDAYEVENT:FALSE
SUMMARY:Oktoberfest
DESCRIPTION:Live music with "Burn the Batteaux" featuring David Martin\, Adam Snow\, Donnie Beadles\, Mike Cole & Brad Thomasson - specializing in Blues & Soulful Rock Music\n\n\n\nCraft beers\, Wine\, Great Food\, Souvenir Beer Mugs\, Corn Hole Toss\, German Theme Adult Costume Contest\n\n\n\nIndor kids activity area including root beer garden\, kids crafts\, pumpkin painting contest\, kids costume contest & more.
X-ALT-DESC;FMTTYPE=text/html:Live music with &quot\;Burn the Batteaux&quot\; featuring David Martin\, Adam Snow\, Donnie Beadles\, Mike Cole &amp\; Brad Thomasson - specializing in Blues &amp\; Soulful Rock Music<br />\n<br />\nCraft beers\, Wine\, Great Food\, Souvenir Beer Mugs\, Corn Hole Toss\, German Theme Adult Costume Contest<br />\n<br />\nIndor kids activity area including root beer garden\, kids crafts\, pumpkin painting contest\, kids costume contest &amp\; more.
LOCATION:Held at the Town of Halifax Farmers Market
UID:e.845.4539
SEQUENCE:3
DTSTAMP:20260425T192611Z
URL:https://business.halifaxchamber.net/events/details/oktoberfest-10-10-2015-4539
END:VEVENT

END:VCALENDAR
