BEGIN:VCALENDAR
VERSION:2.0
PRODID:-//ChamberMaster//Event Calendar 2.0//EN
METHOD:PUBLISH
X-PUBLISHED-TTL:P3D
REFRESH-INTERVAL:P3D
CALSCALE:GREGORIAN
BEGIN:VEVENT
DTSTART:20171021T220000Z
DTEND:20171022T020000Z
X-MICROSOFT-CDO-ALLDAYEVENT:FALSE
SUMMARY:Oktoberfest
DESCRIPTION:Oktoberfest at the Town of Halifax Farmers Market with The Climate Changers featuring: Robyn Robbins\, Spencer Ferguson\, Eddie Elliott\, Chuck Cleary\, and Randy Savage.\n\n\n\nGates open at 5:30pm. \n\nNo coolers allowed.\n\nProper ID required\, to consume alcoholic beverages.\n\n\n\nFood on site - Tacos El "Kora"\, K's Paradise Grill\, Hudson Heritage Farms\, and Fresh baked\, oven-fired pizza.
X-ALT-DESC;FMTTYPE=text/html:Oktoberfest at the Town of Halifax Farmers Market with The Climate Changers featuring: Robyn Robbins\, Spencer Ferguson\, Eddie Elliott\, Chuck Cleary\, and Randy Savage.<br />\n<br />\nGates open at 5:30pm.&nbsp\;<br />\nNo coolers allowed.<br />\nProper ID required\, to consume alcoholic beverages.<br />\n<br />\nFood on site - Tacos El &quot\;Kora&quot\;\, K&#39\;s Paradise Grill\, Hudson Heritage Farms\, and Fresh baked\, oven-fired pizza.&nbsp\;<br />\n<br />\n<br />\n&nbsp\;
LOCATION:Town of Halifax Farmers Market 209 South Main Street Halifax\, VA 24558
UID:e.845.5851
SEQUENCE:3
DTSTAMP:20260422T135445Z
URL:https://business.halifaxchamber.net/events/details/oktoberfest-5851
END:VEVENT

END:VCALENDAR
