BEGIN:VCALENDAR
VERSION:2.0
PRODID:-//ChamberMaster//Event Calendar 2.0//EN
METHOD:PUBLISH
X-PUBLISHED-TTL:P3D
REFRESH-INTERVAL:P3D
CALSCALE:GREGORIAN
BEGIN:VEVENT
DTSTART:20200328T003000Z
DTEND:20200328T033000Z
X-MICROSOFT-CDO-ALLDAYEVENT:FALSE
SUMMARY:Old Skool Live
DESCRIPTION:Old Skool Band live at the JB's Burgers\, Apps and Taps Friday\, March 27th from 8:30 - 11:30pm.\n\nJoin us early for dinner.
X-ALT-DESC;FMTTYPE=text/html:Old Skool Band live at the JB&#39\;s Burgers\, Apps and Taps Friday\, March 27th from 8:30 - 11:30pm.<br />\nJoin us early for dinner.
LOCATION:World of Sports JB's Burgers\, Apps and Taps 2030 Bill Tuck Highway South Boston\, VA 24592
UID:e.845.17528
SEQUENCE:3
DTSTAMP:20260420T131940Z
URL:https://business.halifaxchamber.net/events/details/old-skool-live-03-27-2020-17528
END:VEVENT

END:VCALENDAR
