BEGIN:VCALENDAR
VERSION:2.0
PRODID:-//ChamberMaster//Event Calendar 2.0//EN
METHOD:PUBLISH
X-PUBLISHED-TTL:P3D
REFRESH-INTERVAL:P3D
CALSCALE:GREGORIAN
BEGIN:VEVENT
DTSTART:20191026T010000Z
DTEND:20191026T035500Z
X-MICROSOFT-CDO-ALLDAYEVENT:FALSE
SUMMARY:Old Skool Live
DESCRIPTION:Old Skool live\, for the first time\, at JB's
X-ALT-DESC;FMTTYPE=text/html:Old Skool live\, for the first time\, at JB&#39\;s
LOCATION:JB's Burgers\, Apps\, & Taps 2030 Bill Tuck Highway South Boston\, VA 24592
UID:e.845.15496
SEQUENCE:3
DTSTAMP:20260420T214736Z
URL:https://business.halifaxchamber.net/events/details/old-skool-live-15496
END:VEVENT

END:VCALENDAR
