BEGIN:VCALENDAR
VERSION:2.0
PRODID:-//ChamberMaster//Event Calendar 2.0//EN
METHOD:PUBLISH
X-PUBLISHED-TTL:P3D
REFRESH-INTERVAL:P3D
CALSCALE:GREGORIAN
BEGIN:VEVENT
DTSTART:20190509T230000Z
DTEND:20190509T230000Z
X-MICROSOFT-CDO-ALLDAYEVENT:FALSE
SUMMARY:One Community Initiative Series at the Prizery
DESCRIPTION:Race\, Diamonds\, and Education: The Silas Omohundro Family of Richmond\, presented by Emmanuel Dabney\, Park Curator at Petersburg National Battlefield in Petersburg.\n\nThe purpose of The Prizery's One Community Initiative is to build awareness and bridges of connection across the community through experiences with arts and humanities.\n\nThis presentation is free and open to the public.
X-ALT-DESC;FMTTYPE=text/html:<span style="color: rgb(0\, 0\, 0)\; font-family: arial\;">Race\, Diamonds\, and Education: The Silas Omohundro Family of Richmond\, presented by Emmanuel Dabney\, Park Curator at Petersburg National Battlefield in Petersburg.<br />\nThe purpose of The Prizery&rsquo\;s One Community Initiative is to build awareness and bridges of connection across the community through experiences with arts and humanities.<br />\nThis presentation is free and open to the public.</span>
LOCATION:The Prizery 700 Bruce Street South Boston\, VA 24592
UID:e.845.12443
SEQUENCE:3
DTSTAMP:20260421T063010Z
URL:https://business.halifaxchamber.net/events/details/one-community-initiative-series-at-the-prizery-12443
END:VEVENT

END:VCALENDAR
