BEGIN:VCALENDAR
VERSION:2.0
PRODID:-//ChamberMaster//Event Calendar 2.0//EN
METHOD:PUBLISH
X-PUBLISHED-TTL:P3D
REFRESH-INTERVAL:P3D
CALSCALE:GREGORIAN
BEGIN:VEVENT
DTSTART:20191025T220000Z
DTEND:20191026T180000Z
X-MICROSOFT-CDO-ALLDAYEVENT:FALSE
SUMMARY:One Marriage Conference with Joe McGee Ministries
DESCRIPTION:South Boston Church of God is hosting their 1st Annual Marriage Conference.\n\nSpecial Guest: Joe McGee Ministries\n\nwww.joemcgeeministries.com\n\nRegistration is only $10 per person.\n\nIncludes: Door prizes\, Saturday breakfast and Saturday lunch.
X-ALT-DESC;FMTTYPE=text/html:South Boston Church of God is hosting their 1st Annual Marriage Conference.<br />\nSpecial Guest: Joe McGee Ministries<br />\n<a data-lynx-mode="hover" data-lynx-uri="https://l.facebook.com/l.php?u=http%3A%2F%2Fwww.joemcgeeministries.com%2F%3Ffbclid%3DIwAR0nAoJO5ERirS5xdawR1tN52ul-ywJwMW-8hng_4wVCbQun47Agc-2nZu4&amp\;h=AT2MvR8rLftLzZz_XJ-96YLdRVRFjbW4qV9ok4l0kndaLfEvyzwQWEBGLqABySsmGC9Uq2M1rCjN-7PPQZ3cfh8OvQnQTCJCIXTx2vGI91K_1h2qBwvMVWjPYNl7pLreIVGcjrk" href="http://www.joemcgeeministries.com/?fbclid=IwAR0nAoJO5ERirS5xdawR1tN52ul-ywJwMW-8hng_4wVCbQun47Agc-2nZu4" rel="nofollow noopener" style="color: rgb(56\, 88\, 152)\; cursor: pointer\; text-decoration-line: none\; font-family: system-ui\, -apple-system\, system-ui\, &quot\;.SFNSText-Regular&quot\;\, sans-serif\; font-size: 14px\; white-space: pre-wrap\;" target="_blank">www.joemcgeeministries.com</a><br />\nRegistration is only $10 per person.<br />\nIncludes: Door prizes\, Saturday breakfast and Saturday lunch.
LOCATION:South Boston Church of God 3000 Halifax Road South Boston\, VA 24592
UID:e.845.13294
SEQUENCE:3
DTSTAMP:20260420T220925Z
URL:https://business.halifaxchamber.net/events/details/one-marriage-conference-with-joe-mcgee-ministries-13294
END:VEVENT

END:VCALENDAR
