BEGIN:VCALENDAR
VERSION:2.0
PRODID:-//ChamberMaster//Event Calendar 2.0//EN
METHOD:PUBLISH
X-PUBLISHED-TTL:P3D
REFRESH-INTERVAL:P3D
CALSCALE:GREGORIAN
BEGIN:VEVENT
DTSTART:20200813T160000Z
DTEND:20200813T170000Z
X-MICROSOFT-CDO-ALLDAYEVENT:FALSE
SUMMARY:Online Recruiting and Talent Attraction Webinar
DESCRIPTION:Recruiting employees without the help of technology is almost unthinkable these days. With new recruitment solutions popping up almost every day\, recruiters and their teams might find themselves feeling lost and overwhelmed when selecting digital solutions.\n\n \n\nOn August 13th\, we will hear from Steve Youll\, Virginia Economic Development Partnership's Managing Director\, Talent Acquisition\, to learn what free resources are available\, tips on understanding job board logic\, metrics and analytics you should be tracking and audience target messaging to help you utilize technology to reach the right candidates.
X-ALT-DESC;FMTTYPE=text/html:Recruiting employees without the help of technology is almost unthinkable these days. With new recruitment solutions popping up almost every day\, recruiters and their teams might find themselves feeling lost and overwhelmed when selecting digital solutions.<br />\n&nbsp\;<br />\n<span style="font-family:calibri\;"><span style="font-size:11pt\;"><span style="color:#000000\;">On August 13th\, we will hear from Steve Youll\, Virginia Economic Development Partnership&rsquo\;s Managing Director\, Talent Acquisition\, to learn what free resources are available\, tips on understanding job board logic\, metrics and analytics you should be tracking and audience target messaging to help you utilize technology to reach the right candidates.</span></span></span>
LOCATION:Register at: http://www.sptc-va.org
UID:e.845.17727
SEQUENCE:3
DTSTAMP:20260420T062807Z
URL:https://business.halifaxchamber.net/events/details/online-recruiting-and-talent-attraction-webinar-17727
END:VEVENT

END:VCALENDAR
