BEGIN:VCALENDAR
VERSION:2.0
PRODID:-//ChamberMaster//Event Calendar 2.0//EN
METHOD:PUBLISH
X-PUBLISHED-TTL:P3D
REFRESH-INTERVAL:P3D
CALSCALE:GREGORIAN
BEGIN:VEVENT
DTSTART:20190620T200000Z
DTEND:20190620T230000Z
X-MICROSOFT-CDO-ALLDAYEVENT:FALSE
SUMMARY:Open House and Art Show
DESCRIPTION:Southside Community Services Board invites you to their open house and art show.
X-ALT-DESC;FMTTYPE=text/html:Southside Community Services Board invites you to their open house and art show.
LOCATION:143 Industrial Pkwy Clarksville\, VA 23927
UID:e.845.13202
SEQUENCE:3
DTSTAMP:20260421T044155Z
URL:https://business.halifaxchamber.net/events/details/open-house-and-art-show-13202
END:VEVENT

END:VCALENDAR
