BEGIN:VCALENDAR
VERSION:2.0
PRODID:-//ChamberMaster//Event Calendar 2.0//EN
METHOD:PUBLISH
X-PUBLISHED-TTL:P3D
REFRESH-INTERVAL:P3D
CALSCALE:GREGORIAN
BEGIN:VEVENT
DTSTART:20190411T203000Z
DTEND:20190411T223000Z
X-MICROSOFT-CDO-ALLDAYEVENT:FALSE
SUMMARY:Open House Berry Hill Health & Rehabilitation Center
DESCRIPTION:New State-Of-The-Art Therapy Gym Open House\n\nCome check out Halifax County's newest state of the art therapy gym. Offering physical therapy\, occupational therapy\, speech therapy\, Inpatient and Outpatient Services.\n\n\n\nRibbon cutting at 4:30pm. \n\n\n\nCatered by Four Oaks - Live Music - Raffles\n\nPlease RSVP by Tuesday \, April 9
X-ALT-DESC;FMTTYPE=text/html:New State-Of-The-Art Therapy Gym Open House<br />\nCome check out Halifax County&#39\;s newest state of the art therapy gym. Offering physical therapy\, occupational therapy\, speech therapy\, Inpatient and Outpatient Services.<br />\n<br />\nRibbon cutting at 4:30pm.&nbsp\;<br />\n<br />\nCatered by Four Oaks - Live Music - Raffles<br />\nPlease RSVP by Tuesday \, April 9
LOCATION:Berry Hill Health & Rehabilitation Center 621 Berry Hill Rd. South Bsoston\, VA 24592
UID:e.845.12405
SEQUENCE:3
DTSTAMP:20260421T080336Z
URL:https://business.halifaxchamber.net/events/details/open-house-berry-hill-health-rehabilitation-center-12405
END:VEVENT

END:VCALENDAR
