BEGIN:VCALENDAR
VERSION:2.0
PRODID:-//ChamberMaster//Event Calendar 2.0//EN
METHOD:PUBLISH
X-PUBLISHED-TTL:P3D
REFRESH-INTERVAL:P3D
CALSCALE:GREGORIAN
BEGIN:VEVENT
DTSTART:20200228T000000Z
DTEND:20200228T040000Z
X-MICROSOFT-CDO-ALLDAYEVENT:FALSE
SUMMARY:Open Mic
DESCRIPTION:Open Mic/Open Jam Thursday nights at JB's at the World of Sports in South Boston\, Va. Bring your instrument and jam! Or just sit and eat\, drink\, dance\, and listen to good music by the South Boston/Halifax/Danville/Roxboro area's musicians and entertainers!
X-ALT-DESC;FMTTYPE=text/html:<span style="color:rgb(29\, 33\, 41)\; font-family:system-ui\,-apple-system\,blinkmacsystemfont\,.sfnstext-regular\,sans-serif\; font-size:14px">Open Mic/Open Jam Thursday nights at JB&#39\;s at the World of Sports in South Boston\, Va. Bring your instrument and jam! Or just sit and eat\, drink\, dance\, and listen to good music by the South Boston/Halifax/Danville/Roxboro area&#39\;s musicians and entertainers!</span>
LOCATION:World of Sports 2030 Bill Tuck Highway South Boston\, VA 24592
UID:e.845.17491
SEQUENCE:3
DTSTAMP:20260420T150551Z
URL:https://business.halifaxchamber.net/events/details/open-mic-02-27-2020-17491
END:VEVENT

END:VCALENDAR
