BEGIN:VCALENDAR
VERSION:2.0
PRODID:-//ChamberMaster//Event Calendar 2.0//EN
METHOD:PUBLISH
X-PUBLISHED-TTL:P3D
REFRESH-INTERVAL:P3D
CALSCALE:GREGORIAN
BEGIN:VEVENT
DTSTART:20190329T000000Z
DTEND:20190329T035000Z
X-MICROSOFT-CDO-ALLDAYEVENT:FALSE
SUMMARY:Open Mic Night
DESCRIPTION:Showcase your talent or listen to the wonderful talent from Halifax and surrounding areas every Thursday at Open Mic Night.   8:00pm - 12:00am
X-ALT-DESC;FMTTYPE=text/html:Showcase your talent or listen to the wonderful talent from Halifax and surrounding areas every Thursday at Open Mic Night. &nbsp\; 8:00pm - 12:00am&nbsp\;
LOCATION:World of Sports 2030 Bill Tuck Highway South Boston\, VA 24592
UID:e.845.12017
SEQUENCE:3
DTSTAMP:20260421T105903Z
URL:https://business.halifaxchamber.net/events/details/open-mic-night-03-28-2019-12017
END:VEVENT

END:VCALENDAR
