BEGIN:VCALENDAR
VERSION:2.0
PRODID:-//ChamberMaster//Event Calendar 2.0//EN
METHOD:PUBLISH
X-PUBLISHED-TTL:P3D
REFRESH-INTERVAL:P3D
CALSCALE:GREGORIAN
BEGIN:VEVENT
DTSTART:20170428T010000Z
DTEND:20170428T035500Z
X-MICROSOFT-CDO-ALLDAYEVENT:FALSE
SUMMARY:Open Mic Night at Main St. Cafe
DESCRIPTION:Open Mic night at Main Street Cafe
X-ALT-DESC;FMTTYPE=text/html:Open Mic night at Main Street Cafe&nbsp\;
LOCATION:521 Main Street South Boston\, VA
UID:e.845.5906
SEQUENCE:3
DTSTAMP:20260424T113831Z
URL:https://business.halifaxchamber.net/events/details/open-mic-night-at-main-st-cafe-5906
END:VEVENT

END:VCALENDAR
