BEGIN:VCALENDAR
VERSION:2.0
PRODID:-//ChamberMaster//Event Calendar 2.0//EN
METHOD:PUBLISH
X-PUBLISHED-TTL:P3D
REFRESH-INTERVAL:P3D
CALSCALE:GREGORIAN
BEGIN:VEVENT
DTSTART:20170908T003000Z
DTEND:20170908T035500Z
X-MICROSOFT-CDO-ALLDAYEVENT:FALSE
SUMMARY:Open Mic Night at Main Street Cafe
DESCRIPTION:Open Mic/Open Jam every Thursday night at Main Street Cafe hosted by Mike Warren. Bring your instrument and jam! Or just sit and eat\, drink\, dance\, and listen to good music by the South Boston/Halifax/Danville/Roxboro area's musicians and entertainers! Food and drinks are great! Always a good time! 8:30 - 12:30. No cover charge.
X-ALT-DESC;FMTTYPE=text/html:Open Mic/Open Jam every Thursday night at Main Street Cafe hosted by Mike Warren. Bring your instrument and jam! Or just sit and eat\, drink\, dance\, and listen to good music by the South Boston/Halifax/Danville/Roxboro area&#39\;s musicians and entertainers! Food and drinks are great! Always a good time! 8:30 - 12:30. No cover charge.
LOCATION:Main Street Cafe 521 N. Main St. South Boston\, VA
UID:e.845.7088
SEQUENCE:3
DTSTAMP:20260422T160023Z
URL:https://business.halifaxchamber.net/events/details/open-mic-night-at-main-street-cafe-09-07-2017-7088
END:VEVENT

END:VCALENDAR
