BEGIN:VCALENDAR
VERSION:2.0
PRODID:-//ChamberMaster//Event Calendar 2.0//EN
METHOD:PUBLISH
X-PUBLISHED-TTL:P3D
REFRESH-INTERVAL:P3D
CALSCALE:GREGORIAN
BEGIN:VEVENT
DTSTART;VALUE=DATE:20170323
DTEND;VALUE=DATE:20170324
TRANSP:TRANSPARENT
X-MICROSOFT-CDO-ALLDAYEVENT:TRUE
SUMMARY:Open Mic Night hosted by Mike Warren
DESCRIPTION:Open Mic/Open Jam every Thursday night at Main Street Cafe. Bring your instrument and jam! Or just sit and eat\, drink\, dance\, and listen to good music by the South Boston/Halifax/Danville/Roxboro area's musicians and entertainers! Food and drinks are great! Always a good time! 8:30 - 12:30. No cover charge.
X-ALT-DESC;FMTTYPE=text/html:Open Mic/Open Jam every Thursday night at Main Street Cafe. Bring your instrument and jam! Or just sit and eat\, drink\, dance\, and listen to good music by the South Boston/Halifax/Danville/Roxboro area&#39\;s musicians and entertainers! Food and drinks are great! Always a good time! 8:30 - 12:30. No cover charge.
LOCATION:Main Street Cafe 521 North Main Street South Boston\, VA
UID:e.845.5866
SEQUENCE:3
DTSTAMP:20260424T132523Z
URL:https://business.halifaxchamber.net/events/details/open-mic-night-hosted-by-mike-warren-03-23-2017-5866
END:VEVENT

END:VCALENDAR
