BEGIN:VCALENDAR
VERSION:2.0
PRODID:-//ChamberMaster//Event Calendar 2.0//EN
METHOD:PUBLISH
X-PUBLISHED-TTL:P3D
REFRESH-INTERVAL:P3D
CALSCALE:GREGORIAN
BEGIN:VEVENT
DTSTART:20170604T190000Z
DTEND:20170604T210000Z
X-MICROSOFT-CDO-ALLDAYEVENT:FALSE
SUMMARY:Opening Reception for Clarksville Artisans' Guild
DESCRIPTION:Join us at The Prizery for the Opening Reception for Clarksville Artisans' Guild \n\n\n\nParsons-Bruce Art Association is pleased to feature the Clarksville Artisans Guild in a 3-month exhibit in the Robert F. Cage Gallery at the Prizery. Opening day of the exhibit is set for Sunday\, June 4 at 3:00PM. \n\n\n\nSeven members of the Clarksville Artisans Guild will exhibit diverse art styles in oil\, acrylic\, collage and mixed media painting as well as a variety of sculpture\, pottery\, decorative gourds\, stained glass\, weavings\, wood turnings and more. \n\n\n\nFeatured artists include: Sarag Bolduc\, Helen Massingill\, Willard "Moose" Yeates\, Dot Tarleton\, Carolyn Elliott\, George Reebals and Lindie Watkins.\n\n\n\nThe exhibit will be open for viewing and purchasing during the Prizery's regular operation hours from June 4 until August 17.
X-ALT-DESC;FMTTYPE=text/html:Join us at The Prizery for the Opening Reception for Clarksville Artisans&#39\; Guild&nbsp\;<br />\n<br />\nParsons-Bruce Art Association is pleased to feature the Clarksville Artisans Guild in a 3-month exhibit in the Robert F. Cage Gallery at the Prizery. Opening day of the exhibit is set for Sunday\, June 4 at 3:00PM.&nbsp\;<br />\n<br />\nSeven members of the Clarksville Artisans Guild will exhibit diverse art styles in oil\, acrylic\, collage and mixed media painting as well as a variety of sculpture\, pottery\, decorative gourds\, stained glass\, weavings\, wood turnings and more.&nbsp\;<br />\n<br />\nFeatured artists include: Sarag Bolduc\, Helen Massingill\, Willard &quot\;Moose&quot\; Yeates\, Dot Tarleton\, Carolyn Elliott\, George Reebals and Lindie Watkins.<br />\n<br />\nThe exhibit will be open for viewing and purchasing during the Prizery&#39\;s regular operation hours from&nbsp\;June 4 until August 17.
LOCATION:The Prizery Robert F. Cage Gallery 700 Bruce Street South Boston\, VA
UID:e.845.5927
SEQUENCE:3
DTSTAMP:20260422T231127Z
URL:https://business.halifaxchamber.net/events/details/opening-reception-for-clarksville-artisans-guild-5927
END:VEVENT

END:VCALENDAR
