BEGIN:VCALENDAR
VERSION:2.0
PRODID:-//ChamberMaster//Event Calendar 2.0//EN
METHOD:PUBLISH
X-PUBLISHED-TTL:P3D
REFRESH-INTERVAL:P3D
CALSCALE:GREGORIAN
BEGIN:VEVENT
DTSTART:20170402T190000Z
DTEND:20170402T210000Z
X-MICROSOFT-CDO-ALLDAYEVENT:FALSE
SUMMARY:Opening Reception for Susan Wilkinson's Gallery Exhibit
DESCRIPTION:In partership with Parsons-Bruce Art Association\, we are pleased to present Susan Wilkinson's exhibit entitled "All Things Bright and Beautiful." The art will be on display in the Cage Art Gallery through May. \n\n\n\nAll are invited to the opening reception for the first look at the exhibit. \n\n\n\nThe art is on display for viewing and purchasing.
X-ALT-DESC;FMTTYPE=text/html:<span style="color: rgb(75\, 79\, 86)\; font-family: 'San Francisco'\, -apple-system\, BlinkMacSystemFont\, '.SFNSText-Regular'\, sans-serif\; font-size: 14px\; letter-spacing: -0.23999999463558197px\;">In partership with Parsons-Bruce Art Association\, we are pleased to present Susan Wilkinson&#39\;s exhibit entitled &quot\;All Things Bright and Beautiful.&quot\; The art will be on display in the Cage Art Gallery through May.&nbsp\;</span><br style="color: rgb(75\, 79\, 86)\; font-family: 'San Francisco'\, -apple-system\, BlinkMacSystemFont\, '.SFNSText-Regular'\, sans-serif\; font-size: 14px\; letter-spacing: -0.23999999463558197px\;" />\n<br style="color: rgb(75\, 79\, 86)\; font-family: 'San Francisco'\, -apple-system\, BlinkMacSystemFont\, '.SFNSText-Regular'\, sans-serif\; font-size: 14px\; letter-spacing: -0.23999999463558197px\;" />\n<span style="color: rgb(75\, 79\, 86)\; font-family: 'San Francisco'\, -apple-system\, BlinkMacSystemFont\, '.SFNSText-Regular'\, sans-serif\; font-size: 14px\; letter-spacing: -0.23999999463558197px\;">All are invited to the opening reception for the first look at the exhibit.&nbsp\;</span><br style="color: rgb(75\, 79\, 86)\; font-family: 'San Francisco'\, -apple-system\, BlinkMacSystemFont\, '.SFNSText-Regular'\, sans-serif\; font-size: 14px\; letter-spacing: -0.23999999463558197px\;" />\n<br style="color: rgb(75\, 79\, 86)\; font-family: 'San Francisco'\, -apple-system\, BlinkMacSystemFont\, '.SFNSText-Regular'\, sans-serif\; font-size: 14px\; letter-spacing: -0.23999999463558197px\;" />\n<span style="color: rgb(75\, 79\, 86)\; font-family: 'San Francisco'\, -apple-system\, BlinkMacSystemFont\, '.SFNSText-Regular'\, sans-serif\; font-size: 14px\; letter-spacing: -0.23999999463558197px\;">The art is on display for viewing and purchasing.</span>
LOCATION:The Prizery 700 Bruce Street South Boston\, VA 24592
UID:e.845.5882
SEQUENCE:3
DTSTAMP:20260424T114138Z
URL:https://business.halifaxchamber.net/events/details/opening-reception-for-susan-wilkinson-s-gallery-exhibit-5882
END:VEVENT

END:VCALENDAR
