BEGIN:VCALENDAR
VERSION:2.0
PRODID:-//ChamberMaster//Event Calendar 2.0//EN
METHOD:PUBLISH
X-PUBLISHED-TTL:P3D
REFRESH-INTERVAL:P3D
CALSCALE:GREGORIAN
BEGIN:VEVENT
DTSTART:20170128T190000Z
DTEND:20170128T190000Z
X-MICROSOFT-CDO-ALLDAYEVENT:FALSE
SUMMARY:Opera on the James - Mozart's A Magic Flute (condensed) at The Prizery
DESCRIPTION:Opera on the James and The Prizery present Mozart's "The Magic Flute" (condensed).
X-ALT-DESC;FMTTYPE=text/html:<span style="font-family:helvetica\,arial\,sans-serif\; font-size:15px">Opera on the James and The Prizery present Mozart&#39\;s &quot\;The Magic Flute&quot\; (condensed).</span>
LOCATION:The Prizery 700 Bruce Street South Boston\, VA Chastain Theatre
UID:e.845.5773
SEQUENCE:3
DTSTAMP:20260424T164613Z
URL:https://business.halifaxchamber.net/events/details/opera-on-the-james-mozart-s-a-magic-flute-condensed-at-the-prizery-5773
END:VEVENT

END:VCALENDAR
