BEGIN:VCALENDAR
VERSION:2.0
PRODID:-//ChamberMaster//Event Calendar 2.0//EN
METHOD:PUBLISH
X-PUBLISHED-TTL:P3D
REFRESH-INTERVAL:P3D
CALSCALE:GREGORIAN
BEGIN:VEVENT
DTSTART:20201212T190000Z
DTEND:20201212T210000Z
X-MICROSOFT-CDO-ALLDAYEVENT:FALSE
SUMMARY:Ornament Paint and Sip
DESCRIPTION:Hunting Creek Vineyards has paired up with The Painted Palm to host "Ornament Paint and Sip" on Dec 13th from 2PM-4PM. Come out and paint your own special ornaments to hang on the tree this year! Each $25.00 ticket includes one glass of wine as well as supplies and instruction to create 2 ornaments.\n\nWe have plenty of room to safely distance small groups\, couples and singles. Limited Tickets Available. Masks and social distancing required while moving about.\n\nFollow the link below to purchase tickets.\n\nhttps://www.hcvwines.com/online-store/ornament-paint-and-sip
X-ALT-DESC;FMTTYPE=text/html:<div class="kvgmc6g5 cxmmr5t8 oygrvhab hcukyx3x c1et5uql" style="overflow-wrap: break-word\; margin: 0px\; font-family: system-ui\, -apple-system\, system-ui\, &quot\;.SFNSText-Regular&quot\;\, sans-serif\; color: rgb(5\, 5\, 5)\; font-size: 15px\;">Hunting Creek Vineyards has paired up with The Painted Palm to host &ldquo\;Ornament Paint and Sip&rdquo\; on Dec 13th from 2PM-4PM. Come out and paint your own special ornaments to hang on the tree this year! Each $25.00 ticket includes one glass of wine as well as supplies and instruction to create 2 ornaments.</div>\n\n<div class="o9v6fnle cxmmr5t8 oygrvhab hcukyx3x c1et5uql" style="overflow-wrap: break-word\; margin: 0.5em 0px 0px\; font-family: system-ui\, -apple-system\, system-ui\, &quot\;.SFNSText-Regular&quot\;\, sans-serif\; color: rgb(5\, 5\, 5)\; font-size: 15px\;">We have plenty of room to safely distance small groups\, couples and singles. Limited Tickets Available. Masks and social distancing required while moving about.</div>\n\n<div class="o9v6fnle cxmmr5t8 oygrvhab hcukyx3x c1et5uql" style="overflow-wrap: break-word\; margin: 0.5em 0px 0px\; font-family: system-ui\, -apple-system\, system-ui\, &quot\;.SFNSText-Regular&quot\;\, sans-serif\; color: rgb(5\, 5\, 5)\; font-size: 15px\;">Follow the link below to purchase tickets.</div>\n\n<div class="o9v6fnle cxmmr5t8 oygrvhab hcukyx3x c1et5uql" style="overflow-wrap: break-word\; margin: 0.5em 0px 0px\; font-family: system-ui\, -apple-system\, system-ui\, &quot\;.SFNSText-Regular&quot\;\, sans-serif\; color: rgb(5\, 5\, 5)\; font-size: 15px\;"><a class="oajrlxb2 g5ia77u1 qu0x051f esr5mh6w e9989ue4 r7d6kgcz rq0escxv nhd2j8a9 nc684nl6 p7hjln8o kvgmc6g5 cxmmr5t8 oygrvhab hcukyx3x jb3vyjys rz4wbd8a qt6c0cv9 a8nywdso i1ao9s8h esuyzwwr f1sip0of lzcic4wl py34i1dx gpro0wi8" href="https://www.hcvwines.com/online-store/ornament-paint-and-sip" rel="nofollow noopener" role="link" style="color: var(--blue-link)\; cursor: pointer\; text-decoration-line: none\; outline: none\; list-style: none\; border-width: 0px\; border-style: initial\; border-color: initial\; padding: 0px\; margin: 0px\; touch-action: manipulation\; background-color: transparent\; text-align: inherit\; display: inline\; -webkit-tap-highlight-color: transparent\; box-sizing: border-box\; font-family: inherit\;" tabindex="0" target="_blank">https://www.hcvwines.com/online-store/ornament-paint-and-sip</a></div>\n
LOCATION:The Barn Hunting Creek Vineyards 2000 Addie Williams Trail Clover\, VA 24534
UID:e.845.17816
SEQUENCE:3
DTSTAMP:20260419T221625Z
URL:https://business.halifaxchamber.net/events/details/ornament-paint-and-sip-17816
END:VEVENT

END:VCALENDAR
