BEGIN:VCALENDAR
VERSION:2.0
PRODID:-//ChamberMaster//Event Calendar 2.0//EN
METHOD:PUBLISH
X-PUBLISHED-TTL:P3D
REFRESH-INTERVAL:P3D
CALSCALE:GREGORIAN
BEGIN:VEVENT
DTSTART:20171007T170000Z
DTEND:20171008T000000Z
X-MICROSOFT-CDO-ALLDAYEVENT:FALSE
SUMMARY:Oysters on the Barbie 2017 Finale
DESCRIPTION:Join us for our final weekend of Virginia Oysters on the 1/2 shell for 2017!\n\nWe'll start shucking on Friday and keep going till they're all sucked down. Oysters available raw or grilled\, and by the dozen or more. For very large group orders\, give us a call for special pricing. \n\nOtherwise\, we suggest pre-order to guarantee your little gems are tagged and waiting with your name on them because we sell out every time!\n\nPreorder at: https://squareup.com/store/VittlesSoCO/item/rr-olde-salt-oyster-pre-order before 3pm on Wednesday!
X-ALT-DESC;FMTTYPE=text/html:<span style="color: rgb(75\, 79\, 86)\; font-family: &quot\;SF Optimized&quot\;\, system-ui\, -apple-system\, system-ui\, &quot\;.SFNSText-Regular&quot\;\, sans-serif\; font-size: 14px\; letter-spacing: -0.12px\;">Join us for our final weekend of Virginia Oysters on the 1/2 shell for 2017!</span><br style="color: rgb(75\, 79\, 86)\; font-family: &quot\;SF Optimized&quot\;\, system-ui\, -apple-system\, system-ui\, &quot\;.SFNSText-Regular&quot\;\, sans-serif\; font-size: 14px\; letter-spacing: -0.12px\;" />\n<span style="color: rgb(75\, 79\, 86)\; font-family: &quot\;SF Optimized&quot\;\, system-ui\, -apple-system\, system-ui\, &quot\;.SFNSText-Regular&quot\;\, sans-serif\; font-size: 14px\; letter-spacing: -0.12px\;">We&rsquo\;ll start shucking on Friday and keep going till they&rsquo\;re all sucked down. Oysters available raw or grilled\, and by the dozen or more. For very large group orders\, give us a call for special pricing.&nbsp\;</span><br style="color: rgb(75\, 79\, 86)\; font-family: &quot\;SF Optimized&quot\;\, system-ui\, -apple-system\, system-ui\, &quot\;.SFNSText-Regular&quot\;\, sans-serif\; font-size: 14px\; letter-spacing: -0.12px\;" />\n<span style="color: rgb(75\, 79\, 86)\; font-family: &quot\;SF Optimized&quot\;\, system-ui\, -apple-system\, system-ui\, &quot\;.SFNSText-Regular&quot\;\, sans-serif\; font-size: 14px\; letter-spacing: -0.12px\;">Otherwise\, we suggest pre-order to guarantee your little gems are tagged and waiting with your name on them because we sell out every time!</span><br style="color: rgb(75\, 79\, 86)\; font-family: &quot\;SF Optimized&quot\;\, system-ui\, -apple-system\, system-ui\, &quot\;.SFNSText-Regular&quot\;\, sans-serif\; font-size: 14px\; letter-spacing: -0.12px\;" />\n<span style="color: rgb(75\, 79\, 86)\; font-family: &quot\;SF Optimized&quot\;\, system-ui\, -apple-system\, system-ui\, &quot\;.SFNSText-Regular&quot\;\, sans-serif\; font-size: 14px\; letter-spacing: -0.12px\;">Preorder at:&nbsp\;</span><a data-lynx-mode="async" data-lynx-uri="https://l.facebook.com/l.php?u=https%3A%2F%2Fsquareup.com%2Fstore%2FVittlesSoCO%2Fitem%2Frr-olde-salt-oyster-pre-order&amp\;h=ATNoEMatnA5rKe4RIN_9B2ZAMVxItk0k6cfCtLEbLnk84znA-IpXLtOvnbvUG1qD9-GRX40oiGmhM5Fjai57tK3Dohen-S1XeXf8-APrWhoykrMIX0Mf2_l_YFu8mxklZPmnEWSQU9Z9X1gZanXWuAUIJoz1woxXvq_aeYBfoF9dY_uYmGo" href="https://squareup.com/store/VittlesSoCO/item/rr-olde-salt-oyster-pre-order" rel="nofollow noopener" style="color: rgb(54\, 88\, 153)\; cursor: pointer\; text-decoration-line: none\; font-family: &quot\;SF Optimized&quot\;\, system-ui\, -apple-system\, system-ui\, &quot\;.SFNSText-Regular&quot\;\, sans-serif\; font-size: 14px\; letter-spacing: -0.12px\;" target="_blank"><span style="font-family: inherit\;">https://squareup.com/</span><wbr /><span style="font-family: inherit\;">store/VittlesSoCO/item/</span><wbr /><span style="font-family: inherit\;">rr-olde-salt-oyster-pre-ord</span><wbr />er</a><span style="color: rgb(75\, 79\, 86)\; font-family: &quot\;SF Optimized&quot\;\, system-ui\, -apple-system\, system-ui\, &quot\;.SFNSText-Regular&quot\;\, sans-serif\; font-size: 14px\; letter-spacing: -0.12px\;">&nbsp\;before 3pm on Wednesday!</span>
LOCATION:Staunton River Brewing Co. 1571 Mount Calvary Road Brookneal\, VA
UID:e.845.5986
SEQUENCE:3
DTSTAMP:20260422T135917Z
URL:https://business.halifaxchamber.net/events/details/oysters-on-the-barbie-2017-finale-5986
END:VEVENT

END:VCALENDAR
