BEGIN:VCALENDAR
VERSION:2.0
PRODID:-//ChamberMaster//Event Calendar 2.0//EN
METHOD:PUBLISH
X-PUBLISHED-TTL:P3D
REFRESH-INTERVAL:P3D
CALSCALE:GREGORIAN
BEGIN:VEVENT
DTSTART:20200215T223000Z
DTEND:20200216T003000Z
X-MICROSOFT-CDO-ALLDAYEVENT:FALSE
SUMMARY:Paint and Sip - Valentine's Edition
DESCRIPTION:Art Acoustix and the World of Sports present Paint & Sip Saturday\, February 15th at 5:30. Get your friends or love together for a fun evening out. Choose from one of the two paintings and sip on your favorite beverages.\n\n\n\nRegister by February 10th by contacting Melissa at (434) 755-7141
X-ALT-DESC;FMTTYPE=text/html:<span style="color:rgb(29\, 33\, 41)\; font-family:system-ui\,-apple-system\,system-ui\,.sfnstext-regular\,sans-serif\; font-size:14px">Art Acoustix and the World of Sports present Paint &amp\; Sip Saturday\, February 15th at 5:30. Get your friends or love together for a fun evening out. Choose from one of the two paintings and sip on your favorite beverages.<br />\n<br />\nRegister by February 10th by contacting Melissa at&nbsp\;(434) 755-7141</span>
LOCATION:2030 Bill Tuck Highway South Boston\, VA 24592
UID:e.845.15648
SEQUENCE:3
DTSTAMP:20260420T165337Z
URL:https://business.halifaxchamber.net/events/details/paint-and-sip-valentine-s-edition-15648
END:VEVENT

END:VCALENDAR
