BEGIN:VCALENDAR
VERSION:2.0
PRODID:-//ChamberMaster//Event Calendar 2.0//EN
METHOD:PUBLISH
X-PUBLISHED-TTL:P3D
REFRESH-INTERVAL:P3D
CALSCALE:GREGORIAN
BEGIN:VEVENT
DTSTART:20170819T210000Z
DTEND:20170819T230000Z
X-MICROSOFT-CDO-ALLDAYEVENT:FALSE
SUMMARY:Paint Class at Sweet Cee's
DESCRIPTION:Paint night is the perfect excuse to get together with your friends for a couple of hours!  \n\n\n\n20" Pumpkin Door Hanger\n\nClass is $40/person and includes workings of your choice\n\n\n\nThere are 10 spots available so contact Candace at Sweet Cee's to save your spot. \n\nPrepayment required to hold spot.
X-ALT-DESC;FMTTYPE=text/html:Paint night is the perfect excuse to get together with your friends for a couple of hours! &nbsp\;<br />\n<br />\n20&quot\; Pumpkin Door Hanger<br />\nClass is $40/person and includes workings of your choice<br />\n<br />\nThere are 10 spots available so contact Candace at Sweet Cee&#39\;s to save your spot.&nbsp\;<br />\nPrepayment required to hold spot.&nbsp\;
LOCATION:Sweet Cee's Shops on Main 441 Main Street South Boston\, VA
UID:e.845.7067
SEQUENCE:3
DTSTAMP:20260422T193530Z
URL:https://business.halifaxchamber.net/events/details/paint-class-at-sweet-cee-s-7067
END:VEVENT

END:VCALENDAR
