BEGIN:VCALENDAR
VERSION:2.0
PRODID:-//ChamberMaster//Event Calendar 2.0//EN
METHOD:PUBLISH
X-PUBLISHED-TTL:P3D
REFRESH-INTERVAL:P3D
CALSCALE:GREGORIAN
BEGIN:VEVENT
DTSTART:20210502T180000Z
DTEND:20210502T210000Z
X-MICROSOFT-CDO-ALLDAYEVENT:FALSE
SUMMARY:Paint & Sip
DESCRIPTION:Enjoy an afternoon at Hunting Creek Vineyards sipping on wine and painting your very own "Spring" themed masterpiece.
X-ALT-DESC;FMTTYPE=text/html:<span style="font-size:12px\;"><span style="font-family: proxima-nova\; letter-spacing: 0.48px\; white-space: pre-wrap\;">Enjoy an afternoon at Hunting Creek Vineyards sipping on wine and painting your very own &ldquo\;Spring&rdquo\; themed masterpiece.</span></span>
LOCATION:Hunting Creek Vineyards 2000 Addie Williams Trail Clover\, VA 24534
UID:e.845.17991
SEQUENCE:3
DTSTAMP:20260419T151908Z
URL:https://business.halifaxchamber.net/events/details/paint-sip-17991
END:VEVENT

END:VCALENDAR
