BEGIN:VCALENDAR
VERSION:2.0
PRODID:-//ChamberMaster//Event Calendar 2.0//EN
METHOD:PUBLISH
X-PUBLISHED-TTL:P3D
REFRESH-INTERVAL:P3D
CALSCALE:GREGORIAN
BEGIN:VEVENT
DTSTART:20171014T223000Z
DTEND:20171015T010000Z
X-MICROSOFT-CDO-ALLDAYEVENT:FALSE
SUMMARY:Paint the Town Purple
DESCRIPTION:Join Commonwealth Senior Living at South Boston and Commonwealth Senior Living at Stratford House for an evening of dinner and dancing to support the Alzheimer's Association on October 14th at 6:30pm at the Halifax County Country Club. \n\n\n\nIndividual tickets: $60 each \n\nIncludes dinner by Four Oaks Restaurant\, Entertainment by 6th and Main\, and adult beverages\n\n\n\nLive auction and 50/50 raffle. All proceeds benefit the Alzheimer's Association.\n\n\n\nPlease call Christy Puckett at (434) 575-5400 to RSVP.
X-ALT-DESC;FMTTYPE=text/html:<span style="color: rgb(75\, 79\, 86)\; font-family: &quot\;SF Optimized&quot\;\, system-ui\, -apple-system\, system-ui\, &quot\;.SFNSText-Regular&quot\;\, sans-serif\; font-size: 14px\; letter-spacing: -0.12px\;">Join Commonwealth Senior Living at South Boston and Commonwealth Senior Living at Stratford House for an evening of dinner and dancing to support the Alzheimer&#39\;s Association on October 14th at 6:30pm at the Halifax County Country Club.&nbsp\;</span><br style="color: rgb(75\, 79\, 86)\; font-family: &quot\;SF Optimized&quot\;\, system-ui\, -apple-system\, system-ui\, &quot\;.SFNSText-Regular&quot\;\, sans-serif\; font-size: 14px\; letter-spacing: -0.12px\;" />\n<br style="color: rgb(75\, 79\, 86)\; font-family: &quot\;SF Optimized&quot\;\, system-ui\, -apple-system\, system-ui\, &quot\;.SFNSText-Regular&quot\;\, sans-serif\; font-size: 14px\; letter-spacing: -0.12px\;" />\n<span style="color: rgb(75\, 79\, 86)\; font-family: &quot\;SF Optimized&quot\;\, system-ui\, -apple-system\, system-ui\, &quot\;.SFNSText-Regular&quot\;\, sans-serif\; font-size: 14px\; letter-spacing: -0.12px\;">Individual tickets: $60 each&nbsp\;</span><br style="color: rgb(75\, 79\, 86)\; font-family: &quot\;SF Optimized&quot\;\, system-ui\, -apple-system\, system-ui\, &quot\;.SFNSText-Regular&quot\;\, sans-serif\; font-size: 14px\; letter-spacing: -0.12px\;" />\n<span style="color: rgb(75\, 79\, 86)\; font-family: &quot\;SF Optimized&quot\;\, system-ui\, -apple-system\, system-ui\, &quot\;.SFNSText-Regular&quot\;\, sans-serif\; font-size: 14px\; letter-spacing: -0.12px\;">Includes dinner by Four Oaks Restaurant\, Entertainment by 6th and Main\, and adult beverages</span><br style="color: rgb(75\, 79\, 86)\; font-family: &quot\;SF Optimized&quot\;\, system-ui\, -apple-system\, system-ui\, &quot\;.SFNSText-Regular&quot\;\, sans-serif\; font-size: 14px\; letter-spacing: -0.12px\;" />\n<br style="color: rgb(75\, 79\, 86)\; font-family: &quot\;SF Optimized&quot\;\, system-ui\, -apple-system\, system-ui\, &quot\;.SFNSText-Regular&quot\;\, sans-serif\; font-size: 14px\; letter-spacing: -0.12px\;" />\n<span style="color: rgb(75\, 79\, 86)\; font-family: &quot\;SF Optimized&quot\;\, system-ui\, -apple-system\, system-ui\, &quot\;.SFNSText-Regular&quot\;\, sans-serif\; font-size: 14px\; letter-spacing: -0.12px\;">Live auction and 50/50 raffle. All proceeds benefit the Alzheimer&#39\;s Association.</span><br style="color: rgb(75\, 79\, 86)\; font-family: &quot\;SF Optimized&quot\;\, system-ui\, -apple-system\, system-ui\, &quot\;.SFNSText-Regular&quot\;\, sans-serif\; font-size: 14px\; letter-spacing: -0.12px\;" />\n<br style="color: rgb(75\, 79\, 86)\; font-family: &quot\;SF Optimized&quot\;\, system-ui\, -apple-system\, system-ui\, &quot\;.SFNSText-Regular&quot\;\, sans-serif\; font-size: 14px\; letter-spacing: -0.12px\;" />\n<span style="color: rgb(75\, 79\, 86)\; font-family: &quot\;SF Optimized&quot\;\, system-ui\, -apple-system\, system-ui\, &quot\;.SFNSText-Regular&quot\;\, sans-serif\; font-size: 14px\; letter-spacing: -0.12px\;">Please call Christy Puckett at (434) 575-5400 to RSVP.&nbsp\;</span>
LOCATION:Halifax County Club 5136 Halifax Road Halifax\, VA 24558
UID:e.845.7069
SEQUENCE:3
DTSTAMP:20260422T135741Z
URL:https://business.halifaxchamber.net/events/details/paint-the-town-purple-7069
END:VEVENT

END:VCALENDAR
