BEGIN:VCALENDAR
VERSION:2.0
PRODID:-//ChamberMaster//Event Calendar 2.0//EN
METHOD:PUBLISH
X-PUBLISHED-TTL:P3D
REFRESH-INTERVAL:P3D
CALSCALE:GREGORIAN
BEGIN:VEVENT
DTSTART:20191103T180000Z
DTEND:20191103T200000Z
X-MICROSOFT-CDO-ALLDAYEVENT:FALSE
SUMMARY:Paint with Desiree
DESCRIPTION:Join Springfield Distillery for a painting class with Desiree.\n\nYou will be painting a Christmas initial on a 10"x12" slate
X-ALT-DESC;FMTTYPE=text/html:Join Springfield Distillery for a painting class with Desiree.<br />\nYou will be painting a Christmas initial on a 10&quot\;x12&quot\; slate
LOCATION:Springfield Distillery 9040 River Road Halifax\, VA 24558
UID:e.845.14480
SEQUENCE:3
DTSTAMP:20260420T214754Z
URL:https://business.halifaxchamber.net/events/details/paint-with-desiree-14480
END:VEVENT

END:VCALENDAR
