BEGIN:VCALENDAR
VERSION:2.0
PRODID:-//ChamberMaster//Event Calendar 2.0//EN
METHOD:PUBLISH
X-PUBLISHED-TTL:P3D
REFRESH-INTERVAL:P3D
CALSCALE:GREGORIAN
BEGIN:VEVENT
DTSTART:20191020T170000Z
DTEND:20191020T210000Z
X-MICROSOFT-CDO-ALLDAYEVENT:FALSE
SUMMARY:Paint with Desiree (2 Sessions)
DESCRIPTION:Join Springfield Distillery for a painting class with Desiree. \n\nYou will be painting a red Christmas pick up truck with lights on a 16"x20" canvas.
X-ALT-DESC;FMTTYPE=text/html:Join Springfield Distillery for a painting class with Desiree.&nbsp\;<br />\nYou will be painting a red Christmas pick up truck with lights on a 16&quot\;x20&quot\; canvas.
LOCATION:Springfield Distillery 9040 River Road Halifax\, VA 24558
UID:e.845.14479
SEQUENCE:3
DTSTAMP:20260420T215003Z
URL:https://business.halifaxchamber.net/events/details/paint-with-desiree-2-sessions-14479
END:VEVENT

END:VCALENDAR
