BEGIN:VCALENDAR
VERSION:2.0
PRODID:-//ChamberMaster//Event Calendar 2.0//EN
METHOD:PUBLISH
X-PUBLISHED-TTL:P3D
REFRESH-INTERVAL:P3D
CALSCALE:GREGORIAN
BEGIN:VEVENT
DTSTART:20171001T210000Z
DTEND:20171001T230000Z
X-MICROSOFT-CDO-ALLDAYEVENT:FALSE
SUMMARY:Painting Party at Springfield Distillery
DESCRIPTION:Fall into a paint party at Springfield Distillery\n\n\n\nThe cost is $25. Charlie will be on the grill.\n\nCome thirsty and hungry and bring your creative touch!
X-ALT-DESC;FMTTYPE=text/html:Fall into a paint party at Springfield Distillery<br />\n<br />\nThe cost is $25. Charlie will be on the grill.<br />\nCome thirsty and hungry and bring your creative touch!&nbsp\;
LOCATION:Springfield Distillery 9040 River Road Halifax\, VA
UID:e.845.7101
SEQUENCE:3
DTSTAMP:20260422T135917Z
URL:https://business.halifaxchamber.net/events/details/painting-party-at-springfield-distillery-7101
END:VEVENT

END:VCALENDAR
