BEGIN:VCALENDAR
VERSION:2.0
PRODID:-//ChamberMaster//Event Calendar 2.0//EN
METHOD:PUBLISH
X-PUBLISHED-TTL:P3D
REFRESH-INTERVAL:P3D
CALSCALE:GREGORIAN
BEGIN:VEVENT
DTSTART;VALUE=DATE:20200610
DTEND;VALUE=DATE:20200612
TRANSP:TRANSPARENT
X-MICROSOFT-CDO-ALLDAYEVENT:TRUE
SUMMARY:Papa Johns One Year Anniversary Customer Appreciation
DESCRIPTION:Join Papa Johns as they celebrate their one year anniversary!\n\nAll day $7.99 one topping large pizza. Carry out only.
X-ALT-DESC;FMTTYPE=text/html:Join Papa Johns as they celebrate their one year anniversary!<br />\nAll day $7.99 one topping large pizza. Carry out only.
LOCATION:Papa Johns 4102 Halifax Road South Boston\, VA 24592
UID:e.845.17675
SEQUENCE:3
DTSTAMP:20260420T082500Z
URL:https://business.halifaxchamber.net/events/details/papa-johns-one-year-anniversary-customer-appreciation-17675
END:VEVENT

END:VCALENDAR
