BEGIN:VCALENDAR
VERSION:2.0
PRODID:-//ChamberMaster//Event Calendar 2.0//EN
METHOD:PUBLISH
X-PUBLISHED-TTL:P3D
REFRESH-INTERVAL:P3D
CALSCALE:GREGORIAN
BEGIN:VEVENT
DTSTART:20190425T200000Z
DTEND:20190425T230000Z
X-MICROSOFT-CDO-ALLDAYEVENT:FALSE
SUMMARY:Paper Shredding Community Event
DESCRIPTION:Free Paper Shredding  Community Event
X-ALT-DESC;FMTTYPE=text/html:Free Paper Shredding &nbsp\;Community Event
LOCATION:Town of Halifax Farmers Market 209 S. Main Street
UID:e.845.12028
SEQUENCE:3
DTSTAMP:20260421T093627Z
URL:https://business.halifaxchamber.net/events/details/paper-shredding-community-event-12028
END:VEVENT

END:VCALENDAR
