BEGIN:VCALENDAR
VERSION:2.0
PRODID:-//ChamberMaster//Event Calendar 2.0//EN
METHOD:PUBLISH
X-PUBLISHED-TTL:P3D
REFRESH-INTERVAL:P3D
CALSCALE:GREGORIAN
BEGIN:VEVENT
DTSTART:20191019T213000Z
DTEND:20191020T003000Z
X-MICROSOFT-CDO-ALLDAYEVENT:FALSE
SUMMARY:Parent's Night Out!
DESCRIPTION:Parents\, do you need a break\, or maybe you have some errands to run and while you love your 'Littles to pieces\, you could use a little adult time? Leave your kids with us! During Parent's Night Out your kids will have tons of exercise\, do arts and crafts\, have a snack ! They'll have a ball!
X-ALT-DESC;FMTTYPE=text/html:<span style="color: rgb(29\, 33\, 41)\; font-family: system-ui\, -apple-system\, system-ui\, &quot\;.SFNSText-Regular&quot\;\, sans-serif\; font-size: 14px\; white-space: pre-wrap\;">Parents\, do you need a break\, or maybe you have some errands to run and while you love your &#39\;Littles to pieces\, you could use a little adult time? Leave your kids with us! During Parent&#39\;s Night Out your kids will have tons of exercise\, do arts and crafts\, have a snack ! They&#39\;ll have a ball! </span>
LOCATION:YMCA South Boston/Halifax County 650 Hamilton Blvd South Boston\, VA 24592
UID:e.845.13460
SEQUENCE:3
DTSTAMP:20260420T214938Z
URL:https://business.halifaxchamber.net/events/details/parent-s-night-out-13460
END:VEVENT

END:VCALENDAR
