BEGIN:VCALENDAR
VERSION:2.0
PRODID:-//ChamberMaster//Event Calendar 2.0//EN
METHOD:PUBLISH
X-PUBLISHED-TTL:P3D
REFRESH-INTERVAL:P3D
CALSCALE:GREGORIAN
BEGIN:VEVENT
DTSTART:20190119T223000Z
DTEND:20190120T020000Z
X-MICROSOFT-CDO-ALLDAYEVENT:FALSE
SUMMARY:Parent's Night Out Event YMCA
DESCRIPTION:Join us for a Parent's Night Out Event\, " Winter Wonderland".\n\nEnjoy time shopping\, a quiet night at home or a date night! Free for members\, or $10 for non-members.\n\n\n\nChildren ages 2.5 -5 years old (potty trained) - 6-12 years old\n\nGame night\, face painting\, swimming(for those who have passed swim test)and crafts\n\nRegister at front desk or online.
X-ALT-DESC;FMTTYPE=text/html:<span style="caret-color: rgb(29\, 33\, 41)\; color: rgb(29\, 33\, 41)\; font-family: system-ui\, -apple-system\, BlinkMacSystemFont\, &quot\;.SFNSText-Regular&quot\;\, sans-serif\; font-size: 14px\; white-space: pre-wrap\; background-color: rgb(255\, 255\, 255)\;">Join us for a Parent&#39\;s Night Out Event\, &quot\; Winter Wonderland&quot\;.</span><br style="caret-color: rgb(29\, 33\, 41)\; color: rgb(29\, 33\, 41)\; font-family: system-ui\, -apple-system\, BlinkMacSystemFont\, &quot\;.SFNSText-Regular&quot\;\, sans-serif\; font-size: 14px\; white-space: pre-wrap\;" />\n<span style="caret-color: rgb(29\, 33\, 41)\; color: rgb(29\, 33\, 41)\; font-family: system-ui\, -apple-system\, BlinkMacSystemFont\, &quot\;.SFNSText-Regular&quot\;\, sans-serif\; font-size: 14px\; white-space: pre-wrap\; background-color: rgb(255\, 255\, 255)\;">Enjoy time shopping\, a quiet night at home or a date night! Free for members\, or $10 for non-members.<br />\n<br />\nChildren ages 2.5 -5 years old (potty trained) - 6-12 years old<br />\nGame night\, face painting\, swimming(for those who have passed swim test)and crafts<br />\nRegister at front desk or online.</span><br />\n&nbsp\;
LOCATION:YMCA South Boston/Halifax County South Boston\, VA
UID:e.845.11696
SEQUENCE:3
DTSTAMP:20260421T135311Z
URL:https://business.halifaxchamber.net/events/details/parent-s-night-out-event-ymca-11696
END:VEVENT

END:VCALENDAR
