BEGIN:VCALENDAR
VERSION:2.0
PRODID:-//ChamberMaster//Event Calendar 2.0//EN
METHOD:PUBLISH
X-PUBLISHED-TTL:P3D
REFRESH-INTERVAL:P3D
CALSCALE:GREGORIAN
BEGIN:VEVENT
DTSTART:20181103T163000Z
DTEND:20181103T171500Z
X-MICROSOFT-CDO-ALLDAYEVENT:FALSE
SUMMARY:Park Explorers Outpost Kids Class: Animal Adaptation
DESCRIPTION:Mammals found in the park are not all the same   large black bears\, small striped skunks\, and spotted bobcats all thrive in this area but have very different adaptations.\n\nDiscover what unique traits our native mammals use to survive. The Ranger will have an array of wildlife displays for you to look at and touch.\n\nKids under 13 welcome to attend.
X-ALT-DESC;FMTTYPE=text/html:<p style="box-sizing: border-box\; margin: 0px 0px 10px\; line-height: 1.7\; caret-color: rgb(45\, 45\, 45)\; color: rgb(45\, 45\, 45)\; font-family: &quot\;Open Sans&quot\;\, sans-serif\; font-size: 14px\;">Mammals found in the park are not all the same &ndash\; large black bears\, small striped skunks\, and spotted bobcats all thrive in this area but have very different adaptations.</p>\n\n<p style="box-sizing: border-box\; margin: 0px 0px 10px\; line-height: 1.7\; caret-color: rgb(45\, 45\, 45)\; color: rgb(45\, 45\, 45)\; font-family: &quot\;Open Sans&quot\;\, sans-serif\; font-size: 14px\;">Discover what unique traits our native mammals use to survive. The Ranger will have an array of wildlife displays for you to look at and touch.</p>\n\n<p style="box-sizing: border-box\; margin: 0px 0px 10px\; line-height: 1.7\; caret-color: rgb(45\, 45\, 45)\; color: rgb(45\, 45\, 45)\; font-family: &quot\;Open Sans&quot\;\, sans-serif\; font-size: 14px\;">Kids under 13 welcome to attend.</p>\n
LOCATION:South Boston - Halifax County Museum
UID:e.845.8537
SEQUENCE:3
DTSTAMP:20260421T171404Z
URL:https://business.halifaxchamber.net/events/details/park-explorers-outpost-kids-class-animal-adaptation-8537
END:VEVENT

END:VCALENDAR
