BEGIN:VCALENDAR
VERSION:2.0
PRODID:-//ChamberMaster//Event Calendar 2.0//EN
METHOD:PUBLISH
X-PUBLISHED-TTL:P3D
REFRESH-INTERVAL:P3D
CALSCALE:GREGORIAN
BEGIN:VEVENT
DTSTART:20181117T173000Z
DTEND:20181117T181500Z
X-MICROSOFT-CDO-ALLDAYEVENT:FALSE
SUMMARY:Park Explorers’ Outpost Kids Class: Feelin’ Fishy
DESCRIPTION:The Staunton River Battlefield State Park is right on the Staunton River\, naturally.\n\n\nLet's explore beneath the river waters in search of our scaly friends.\n\nWhat fish might we find? The ranger will teach you how to identify some native fish species and there will be a fishy activity as well.
X-ALT-DESC;FMTTYPE=text/html:<ul style="box-sizing: border-box\; margin: 0px\; padding: 0px 0px 0px 20px\; caret-color: rgb(45\, 45\, 45)\; color: rgb(45\, 45\, 45)\; font-family: &quot\;Open Sans&quot\;\, sans-serif\; font-size: 14px\;">\n	<li style="box-sizing: border-box\;">The Staunton River Battlefield State Park is right on the Staunton River\, naturally.</li>\n</ul>\n\n<p style="box-sizing: border-box\; margin: 0px 0px 10px\; line-height: 1.7\; caret-color: rgb(45\, 45\, 45)\; color: rgb(45\, 45\, 45)\; font-family: &quot\;Open Sans&quot\;\, sans-serif\; font-size: 14px\;">Let&rsquo\;s explore beneath the river waters in search of our scaly friends.</p>\n\n<p style="box-sizing: border-box\; margin: 0px 0px 10px\; line-height: 1.7\; caret-color: rgb(45\, 45\, 45)\; color: rgb(45\, 45\, 45)\; font-family: &quot\;Open Sans&quot\;\, sans-serif\; font-size: 14px\;">What fish might we find? The ranger will teach you how to identify some native fish species and there will be a fishy activity as well.</p>\n
LOCATION:South Boston - Halifax County Museum
UID:e.845.8549
SEQUENCE:3
DTSTAMP:20260421T171308Z
URL:https://business.halifaxchamber.net/events/details/park-explorers-outpost-kids-class-feelin-fishy-8549
END:VEVENT

END:VCALENDAR
