BEGIN:VCALENDAR
VERSION:2.0
PRODID:-//ChamberMaster//Event Calendar 2.0//EN
METHOD:PUBLISH
X-PUBLISHED-TTL:P3D
REFRESH-INTERVAL:P3D
CALSCALE:GREGORIAN
BEGIN:VEVENT
DTSTART:20181103T180000Z
DTEND:20181103T190000Z
X-MICROSOFT-CDO-ALLDAYEVENT:FALSE
SUMMARY:Park Explorers Outpost Teens and Adults Class: Animal Adaptations
DESCRIPTION:Mammals found in the park are not all the same   large black bears\, small striped skunks\, and spotted bobcats all thrive in this area but have very different adaptations.\n\nDiscover what unique traits our native mammals use to survive. The Ranger will have an array of wildlife displays for you to look at and touch.\n\nAdults and teens 13 and older are welcome to attend.
X-ALT-DESC;FMTTYPE=text/html:<div class="tribe-events-single-event-description tribe-events-content" style="box-sizing: border-box\; max-width: 100%\; padding: 0px\; width: 1200px\; caret-color: rgb(45\, 45\, 45)\; color: rgb(45\, 45\, 45)\; font-family: &quot\;Open Sans&quot\;\, sans-serif\; font-size: 14px\;">\n<p style="box-sizing: border-box\; margin: 0px 0px 10px\; line-height: 1.7\;">Mammals found in the park are not all the same &ndash\; large black bears\, small striped skunks\, and spotted bobcats all thrive in this area but have very different adaptations.</p>\n\n<p style="box-sizing: border-box\; margin: 0px 0px 10px\; line-height: 1.7\;">Discover what unique traits our native mammals use to survive. The Ranger will have an array of wildlife displays for you to look at and touch.</p>\n\n<p style="box-sizing: border-box\; margin: 0px 0px 10px\; line-height: 1.7\;">Adults and teens 13 and older are welcome to attend.</p>\n</div>\n
LOCATION:South Boston- Halifax Couty Museum
UID:e.845.8547
SEQUENCE:3
DTSTAMP:20260421T171439Z
URL:https://business.halifaxchamber.net/events/details/park-explorers-outpost-teens-and-adults-class-animal-adaptations-8547
END:VEVENT

END:VCALENDAR
