BEGIN:VCALENDAR
VERSION:2.0
PRODID:-//ChamberMaster//Event Calendar 2.0//EN
METHOD:PUBLISH
X-PUBLISHED-TTL:P3D
REFRESH-INTERVAL:P3D
CALSCALE:GREGORIAN
BEGIN:VEVENT
DTSTART:20170611T210000Z
DTEND:20170612T000000Z
X-MICROSOFT-CDO-ALLDAYEVENT:FALSE
SUMMARY:Party Arty Barn Door Wreath Paint Party
DESCRIPTION:Join your friends at Springfield Distillery for a whiskey and painting class with Desiree Shaffer.
X-ALT-DESC;FMTTYPE=text/html:Join your friends at Springfield Distillery for a whiskey and painting class with Desiree Shaffer.&nbsp\;
LOCATION:Springfield Distillery 9040 River Road Halifax\, VA 24558
UID:e.845.5956
SEQUENCE:3
DTSTAMP:20260422T212431Z
URL:https://business.halifaxchamber.net/events/details/party-arty-barn-door-wreath-paint-party-5956
END:VEVENT

END:VCALENDAR
