BEGIN:VCALENDAR
VERSION:2.0
PRODID:-//ChamberMaster//Event Calendar 2.0//EN
METHOD:PUBLISH
X-PUBLISHED-TTL:P3D
REFRESH-INTERVAL:P3D
CALSCALE:GREGORIAN
BEGIN:VEVENT
DTSTART:20160103T000000Z
DTEND:20160103T030000Z
X-MICROSOFT-CDO-ALLDAYEVENT:FALSE
SUMMARY:Passion for Purple Gala
DESCRIPTION:Proceeds Support Domestic Violence Victims And Their Families.\n\nTri-County Community Action Agency\,Inc. is commemorating 5 years of assisting victims and survivors of Domestic Violence in Halifax\, Charlotte and Mecklenburg Counties. On January 2\, 2016\, the Domestic Violence Program will sponsor a fundraising gala event. The proceeds from this event will continue our program's mission\, helping victims of domestic violence. The emergency shelter\, transportation\, 24 hour confidential hotline\, counseling\, case management\, educational programs and other services as deemed appropriate.
X-ALT-DESC;FMTTYPE=text/html:Proceeds Support Domestic Violence Victims And Their Families.<br />\nTri-County Community Action Agency\,Inc. is commemorating 5 years of assisting victims and survivors of Domestic Violence in Halifax\, Charlotte and Mecklenburg Counties. On January 2\, 2016\, the Domestic Violence Program will sponsor a fundraising gala event. The proceeds from this event will continue our program&#39\;s mission\, helping victims of domestic violence. The emergency shelter\, transportation\, 24 hour confidential hotline\, counseling\, case management\, educational programs and other services as deemed appropriate.<br />\n&nbsp\;
LOCATION:Washington Coleman Community Center 1921 Jeffress Boulevard South Boston\, VA
UID:e.845.4561
SEQUENCE:3
DTSTAMP:20260425T143923Z
URL:https://business.halifaxchamber.net/events/details/passion-for-purple-gala-01-02-2016-4561
END:VEVENT

END:VCALENDAR
