BEGIN:VCALENDAR
VERSION:2.0
PRODID:-//ChamberMaster//Event Calendar 2.0//EN
METHOD:PUBLISH
X-PUBLISHED-TTL:P3D
REFRESH-INTERVAL:P3D
CALSCALE:GREGORIAN
BEGIN:VEVENT
DTSTART:20170421T200000Z
DTEND:20170421T220000Z
X-MICROSOFT-CDO-ALLDAYEVENT:FALSE
SUMMARY:PATHS Open House
DESCRIPTION:Join community business leaders over refreshment and meet the PATHS' staff.
X-ALT-DESC;FMTTYPE=text/html:Join community business leaders over refreshment and meet the PATHS&#39\; staff.&nbsp\;<br />\n<br />\n&nbsp\;
LOCATION:PATHS 1627 Seymour Drive South Boston\, VA
UID:e.845.5903
SEQUENCE:3
DTSTAMP:20260424T131308Z
URL:https://business.halifaxchamber.net/events/details/paths-open-house-5903
END:VEVENT

END:VCALENDAR
