BEGIN:VCALENDAR
VERSION:2.0
PRODID:-//ChamberMaster//Event Calendar 2.0//EN
METHOD:PUBLISH
X-PUBLISHED-TTL:P3D
REFRESH-INTERVAL:P3D
CALSCALE:GREGORIAN
BEGIN:VEVENT
DTSTART:20170719T150000Z
DTEND:20170719T160000Z
X-MICROSOFT-CDO-ALLDAYEVENT:FALSE
SUMMARY:PATHS Ribbon Cutting
DESCRIPTION:Join PATHS for their Ribbon Cutting July 19th at 11:00AM.\n\nMeet the staff and enjoy light refreshments.
X-ALT-DESC;FMTTYPE=text/html:Join PATHS for their Ribbon Cutting July 19th at 11:00AM.<br />\nMeet the staff and enjoy light refreshments.
LOCATION:PATHS 1627 Seymour Drive South Boston\, VA
UID:e.845.7010
SEQUENCE:3
DTSTAMP:20260422T194114Z
URL:https://business.halifaxchamber.net/events/details/paths-ribbon-cutting-7010
END:VEVENT

END:VCALENDAR
