BEGIN:VCALENDAR
VERSION:2.0
PRODID:-//ChamberMaster//Event Calendar 2.0//EN
METHOD:PUBLISH
X-PUBLISHED-TTL:P3D
REFRESH-INTERVAL:P3D
CALSCALE:GREGORIAN
BEGIN:VEVENT
DTSTART:20210528T130000Z
DTEND:20210528T210000Z
X-MICROSOFT-CDO-ALLDAYEVENT:FALSE
SUMMARY:Patrick Henry's 285th Birthday
DESCRIPTION:The Patrick Henry National Memorial will celebrate Patrick Henry's 285th birthday on Friday\, May 28\, 2021. Come out to Red Hill and enjoy complimentary birthday cake and lemonade while you tour the property. There will also be a wreath-laying ceremony at Patrick Henry's grave at 1pm.
X-ALT-DESC;FMTTYPE=text/html:<span style="color: rgb(85\, 85\, 85)\; font-family: Roboto\, &quot\;Helvetica Neue&quot\;\, Helvetica\, Roboto\, Arial\, sans-serif\; font-size: 16px\;">The Patrick Henry National Memorial will celebrate Patrick Henry&rsquo\;s 285th birthday on Friday\, May 28\, 2021. Come out to Red Hill and enjoy complimentary birthday cake and lemonade while you tour the property. There will also be a wreath-laying ceremony at Patrick Henry&rsquo\;s grave at 1pm.&nbsp\;</span>
LOCATION:Red Hill 1250 Red Hill Rd. Brookneal\, VA
UID:e.845.18020
SEQUENCE:3
DTSTAMP:20260419T152114Z
URL:https://business.halifaxchamber.net/events/details/patrick-henry-s-285th-birthday-18020
END:VEVENT

END:VCALENDAR
