BEGIN:VCALENDAR
VERSION:2.0
PRODID:-//ChamberMaster//Event Calendar 2.0//EN
METHOD:PUBLISH
X-PUBLISHED-TTL:P3D
REFRESH-INTERVAL:P3D
CALSCALE:GREGORIAN
BEGIN:VEVENT
DTSTART:20181103T150000Z
DTEND:20181103T210000Z
X-MICROSOFT-CDO-ALLDAYEVENT:FALSE
SUMMARY:Patrick Henry's Bluegrass\, Barbecue & Brew Festival
DESCRIPTION:
X-ALT-DESC;FMTTYPE=text/html:
LOCATION:Patrick Henry's Red Hill 1250 Red Hill Rd. Brookneal\, VA
UID:e.845.8495
SEQUENCE:3
DTSTAMP:20260421T171718Z
URL:https://business.halifaxchamber.net/events/details/patrick-henry-s-bluegrass-barbecue-brew-festival-8495
END:VEVENT

END:VCALENDAR
