BEGIN:VCALENDAR
VERSION:2.0
PRODID:-//ChamberMaster//Event Calendar 2.0//EN
METHOD:PUBLISH
X-PUBLISHED-TTL:P3D
REFRESH-INTERVAL:P3D
CALSCALE:GREGORIAN
BEGIN:VEVENT
DTSTART:20180908T160000Z
DTEND:20180908T200000Z
X-MICROSOFT-CDO-ALLDAYEVENT:FALSE
SUMMARY:PAWS IN THE POOL
DESCRIPTION:Halifax Dog Squad Invites you to COME SWIM WITH YOUR DOG.\n\n*Proof of Up-To-Date vaccines & tags MUST BE PRESENTED AT THE EVENT.\n\nAll proceeds from the fundraiser will go to Halifax Dog Squad. Inc.
X-ALT-DESC;FMTTYPE=text/html:<div class="page" title="Page 2">Halifax Dog Squad Invites you to COME SWIM WITH YOUR DOG.<br />\n*Proof of Up-To-Date vaccines &amp\; tags MUST BE PRESENTED AT THE EVENT.<br />\nAll proceeds from the fundraiser will go to Halifax Dog Squad. Inc.</div>\n
LOCATION:Staunton River State Park Scottsburg\, VA
UID:e.845.8477
SEQUENCE:3
DTSTAMP:20260421T201725Z
URL:https://business.halifaxchamber.net/events/details/paws-in-the-pool-8477
END:VEVENT

END:VCALENDAR
