BEGIN:VCALENDAR
VERSION:2.0
PRODID:-//ChamberMaster//Event Calendar 2.0//EN
METHOD:PUBLISH
X-PUBLISHED-TTL:P3D
REFRESH-INTERVAL:P3D
CALSCALE:GREGORIAN
BEGIN:VEVENT
DTSTART:20210325T130000Z
DTEND:20210325T150000Z
X-MICROSOFT-CDO-ALLDAYEVENT:FALSE
SUMMARY:Person-Centered Care Training
DESCRIPTION:A one-hour education session followed by the second hour where participants engage in discussions based on case scenarios about patient-centered care. This training will be presented virtually and will be recorded.\n\nThe purpose of this webinar is to explore both person-centeredness and cultural competence and the ability of the healthcare professional to utilize effective intervention techniques in order to provide the most comprehensive person-centered healthcare services.\n\nParticipants will receive 2-hours of continuing education.\n\nInstructor - Dr. Jay White\, ED\, MSG
X-ALT-DESC;FMTTYPE=text/html:A one-hour education session followed by the second hour where participants engage in discussions based on case scenarios about patient-centered care. This training will be presented virtually and will be recorded.<br />\nThe purpose of this webinar is to explore both person-centeredness and cultural competence and the ability of the healthcare professional to utilize effective intervention techniques in order to provide the most comprehensive person-centered healthcare services.<br />\nParticipants will receive 2-hours of continuing education.<br />\nInstructor - Dr. Jay White\, ED\, MSG
LOCATION:Register online at: https://tinyurl.com/person-centered-care-training
UID:e.845.17882
SEQUENCE:3
DTSTAMP:20260419T164753Z
URL:https://business.halifaxchamber.net/events/details/person-centered-care-training-17882
END:VEVENT

END:VCALENDAR
