BEGIN:VCALENDAR
VERSION:2.0
PRODID:-//ChamberMaster//Event Calendar 2.0//EN
METHOD:PUBLISH
X-PUBLISHED-TTL:P3D
REFRESH-INTERVAL:P3D
CALSCALE:GREGORIAN
BEGIN:VEVENT
DTSTART:20210612T200000Z
DTEND:20210612T200000Z
X-MICROSOFT-CDO-ALLDAYEVENT:FALSE
SUMMARY:Pete and the Wolf
DESCRIPTION:Join The Prizery for the performance of Peter and the Wolf by the Danville Symphony Orchestra followed by a reception.
X-ALT-DESC;FMTTYPE=text/html:Join The Prizery for the performance of Peter and the Wolf by the Danville Symphony Orchestra followed by a reception.
LOCATION:The Prizery
UID:e.845.18027
SEQUENCE:3
DTSTAMP:20260419T135734Z
URL:https://business.halifaxchamber.net/events/details/pete-and-the-wolf-18027
END:VEVENT

END:VCALENDAR
