BEGIN:VCALENDAR
VERSION:2.0
PRODID:-//ChamberMaster//Event Calendar 2.0//EN
METHOD:PUBLISH
X-PUBLISHED-TTL:P3D
REFRESH-INTERVAL:P3D
CALSCALE:GREGORIAN
BEGIN:VEVENT
DTSTART:20191208T180000Z
DTEND:20191208T220000Z
X-MICROSOFT-CDO-ALLDAYEVENT:FALSE
SUMMARY:Pictures with Santa
DESCRIPTION:Take pictures with Santa and enjoy Full Circle Pizza!\n\nHCHS Culinary Arts students will be baking for the event.
X-ALT-DESC;FMTTYPE=text/html:Take pictures with Santa and enjoy Full Circle Pizza!<br />\nHCHS Culinary Arts students will be baking for the event.
LOCATION:Springfield Distillery 9040 River Road Halifax\, VA 24558
UID:e.845.15580
SEQUENCE:3
DTSTAMP:20260420T200202Z
URL:https://business.halifaxchamber.net/events/details/pictures-with-santa-12-08-2019-15580
END:VEVENT

END:VCALENDAR
