BEGIN:VCALENDAR
VERSION:2.0
PRODID:-//ChamberMaster//Event Calendar 2.0//EN
METHOD:PUBLISH
X-PUBLISHED-TTL:P3D
REFRESH-INTERVAL:P3D
CALSCALE:GREGORIAN
BEGIN:VEVENT
DTSTART:20191219T230000Z
DTEND:20191220T010000Z
X-MICROSOFT-CDO-ALLDAYEVENT:FALSE
SUMMARY:Pictures with Santa
DESCRIPTION:Come visit and have your picture taken with Santa and Mrs. Claus in our Winter Wonderland Thursday\, December 19th from 6:00 - 8:00. They have a little special gift for each of you! :)\n\n\n\nParents\, we will be taking photos and posting them online for you to save and print if you wish. You are more than welcome to take pictures with your camera/phone as well.
X-ALT-DESC;FMTTYPE=text/html:<span style="color:rgb(29\, 33\, 41)\; font-family:system-ui\,-apple-system\,blinkmacsystemfont\,.sfnstext-regular\,sans-serif\; font-size:14px">Come visit and have your picture taken with Santa and Mrs. Claus in our Winter Wonderland Thursday\, December 19th from 6:00 - 8:00. They have a little special gift for each of you! :)</span><br />\n<br />\n<span style="color:rgb(29\, 33\, 41)\; font-family:system-ui\,-apple-system\,blinkmacsystemfont\,.sfnstext-regular\,sans-serif\; font-size:14px">Parents\, we will be taking photos and posting them online for you to save and print if you wish. You are more than welcome to take pictures with your camera/phone as well.</span>
LOCATION:World of Sports 2030 Bill Tuck Highway South Boston\, VA 24592
UID:e.845.15568
SEQUENCE:3
DTSTAMP:20260420T183142Z
URL:https://business.halifaxchamber.net/events/details/pictures-with-santa-12-19-2019-15568
END:VEVENT

END:VCALENDAR
